BEGIN:VCALENDAR
VERSION:2.0
PRODID:-//Casa de Juventud Aleste - ECPv5.16.0//NONSGML v1.0//EN
CALSCALE:GREGORIAN
METHOD:PUBLISH
X-WR-CALNAME:Casa de Juventud Aleste
X-ORIGINAL-URL:https://www.alestecasaj.org
X-WR-CALDESC:Eventos para Casa de Juventud Aleste
BEGIN:VTIMEZONE
TZID:Europe/Paris
BEGIN:DAYLIGHT
TZOFFSETFROM:+0100
TZOFFSETTO:+0200
TZNAME:CEST
DTSTART:20190331T010000
END:DAYLIGHT
BEGIN:STANDARD
TZOFFSETFROM:+0200
TZOFFSETTO:+0100
TZNAME:CET
DTSTART:20191027T010000
END:STANDARD
END:VTIMEZONE
BEGIN:VEVENT
DTSTART;TZID=Europe/Paris:20190613T080000
DTEND;TZID=Europe/Paris:20190616T170000
DTSTAMP:20260420T105719
CREATED:20190613T065620Z
LAST-MODIFIED:20190910T120930Z
UID:3280-1560412800-1560704400@www.alestecasaj.org
SUMMARY:IMPOSICIÓN DE SÍMBOLOS Y PAÑOLETAS
DESCRIPTION:Este sábado tenemos la celebración de la Imposición de Símbolos y Pañoletas para todos los participantes en el Itinerario de Educación en la Fe. Es un momento importante con el que ponemos punto y seguido a todo lo vivido y aprendido en los grupos de Saltimbanqui\, Andaina\, ADS\, Iniciacion I y II\, y tercero de Catecumenado. Punto y seguido porque un grupo de 51 chicos/as y animadores participaremos en los distintos Campamentos de Verano con otros centros juveniles de Castilla y León\, Galicia y Asturias. \nLa Celebración tendrá lugar este sábado 15 de junio de 12:00 a 14:00 toda la familia estáis invitados a participar. \n \n\n¡Compártelo! \n\n\n  \n    \n  \n \n\n  \n\n \nTwitter\n\n\n  \n    \n  \n \n\n  \n\n \nWhatsapp\n\n\n  \n    \n  \n \n\n  \n\n \nFacebook\n\n\n  \n    \n  \n \n\n  \n\n \nEmail
URL:https://www.alestecasaj.org/evento/imposicion-de-simbolos-y-panoletas/
CATEGORIES:Eventos pasados
ATTACH;FMTTYPE=image/jpeg:https://www.alestecasaj.org/wp-content/uploads/2019/06/IMPOSICION-SIMBOLOS.jpg
END:VEVENT
END:VCALENDAR